BEGIN:VCALENDAR
VERSION:2.0
PRODID:-//Vežame Lietuva Olandija Belgija Anglija Lietuva - ECPv5.7.0//NONSGML v1.0//EN
CALSCALE:GREGORIAN
METHOD:PUBLISH
X-WR-CALNAME:Vežame Lietuva Olandija Belgija Anglija Lietuva
X-ORIGINAL-URL:https://eurokelias.lt
X-WR-CALDESC:Vežame Lietuva Olandija Belgija Anglija Lietuva renginiai
BEGIN:VTIMEZONE
TZID:UTC
BEGIN:STANDARD
TZOFFSETFROM:+0000
TZOFFSETTO:+0000
TZNAME:UTC
DTSTART:20260101T000000
END:STANDARD
END:VTIMEZONE
BEGIN:VEVENT
DTSTART;VALUE=DATE:20260424
DTEND;VALUE=DATE:20260425
DTSTAMP:20260423T122328
CREATED:20191114T075511Z
LAST-MODIFIED:20260408T045643Z
UID:3624-1776988800-1777075199@eurokelias.lt
SUMMARY:Lietuva - Olandija\, Belgija
DESCRIPTION:Vežame maršrutų Lietuva – Olandija\, Belgija kelevius\, siuntinius ir gyvunus– kiekvieną trečiadieni ir penktadienį.
URL:https://eurokelias.lt/event/lietuva-olandija-belgija-3/
CATEGORIES:Vežame Lietuva Olandija Belgija mikroautobusais
END:VEVENT
END:VCALENDAR