BEGIN:VCALENDAR
VERSION:2.0
PRODID:-//Vežame Lietuva Olandija Belgija Anglija Lietuva - ECPv5.7.0//NONSGML v1.0//EN
CALSCALE:GREGORIAN
METHOD:PUBLISH
X-WR-CALNAME:Vežame Lietuva Olandija Belgija Anglija Lietuva
X-ORIGINAL-URL:https://eurokelias.lt
X-WR-CALDESC:Vežame Lietuva Olandija Belgija Anglija Lietuva renginiai
BEGIN:VTIMEZONE
TZID:UTC
BEGIN:STANDARD
TZOFFSETFROM:+0000
TZOFFSETTO:+0000
TZNAME:UTC
DTSTART:20260101T000000
END:STANDARD
END:VTIMEZONE
BEGIN:VEVENT
DTSTART;VALUE=DATE:20260426
DTEND;VALUE=DATE:20260427
DTSTAMP:20260423T142401
CREATED:20191114T080052Z
LAST-MODIFIED:20260415T075247Z
UID:3630-1777161600-1777247999@eurokelias.lt
SUMMARY:Belgija\, Olandija - Lietuva
DESCRIPTION:Vežame maršrutų Belgija\, Olandija – Lietuva kelevius\, siuntinius ir gyvunus – kiekvieną penktadieni ir sekmadienį.
URL:https://eurokelias.lt/event/belgija-olandija-lietuva-4/
CATEGORIES:Vežame Belgija Olandija Lietuva mikroautobusais
END:VEVENT
END:VCALENDAR